
BEGIN:VCALENDAR
VERSION:2.0
PRODID:-//Remuera Chinese Baptist Church - ECPv6.15.20//NONSGML v1.0//EN
CALSCALE:GREGORIAN
METHOD:PUBLISH
X-ORIGINAL-URL:http://rcbc.org.nz
X-WR-CALDESC:Events for Remuera Chinese Baptist Church
REFRESH-INTERVAL;VALUE=DURATION:PT1H
X-Robots-Tag:noindex
X-PUBLISHED-TTL:PT1H
BEGIN:VTIMEZONE
TZID:Pacific/Auckland
BEGIN:STANDARD
TZOFFSETFROM:+1300
TZOFFSETTO:+1200
TZNAME:NZST
DTSTART:20170401T140000
END:STANDARD
BEGIN:DAYLIGHT
TZOFFSETFROM:+1200
TZOFFSETTO:+1300
TZNAME:NZDT
DTSTART:20170923T140000
END:DAYLIGHT
BEGIN:STANDARD
TZOFFSETFROM:+1300
TZOFFSETTO:+1200
TZNAME:NZST
DTSTART:20180331T140000
END:STANDARD
BEGIN:DAYLIGHT
TZOFFSETFROM:+1200
TZOFFSETTO:+1300
TZNAME:NZDT
DTSTART:20180929T140000
END:DAYLIGHT
BEGIN:STANDARD
TZOFFSETFROM:+1300
TZOFFSETTO:+1200
TZNAME:NZST
DTSTART:20190406T140000
END:STANDARD
BEGIN:DAYLIGHT
TZOFFSETFROM:+1200
TZOFFSETTO:+1300
TZNAME:NZDT
DTSTART:20190928T140000
END:DAYLIGHT
END:VTIMEZONE
BEGIN:VEVENT
DTSTART;TZID=Pacific/Auckland:20181104T190000
DTEND;TZID=Pacific/Auckland:20181104T210000
DTSTAMP:20260426T034408
CREATED:20180910T072140Z
LAST-MODIFIED:20180910T073437Z
UID:1674-1541358000-1541365200@rcbc.org.nz
SUMMARY:轉化生命—培靈音樂會
DESCRIPTION:
URL:http://rcbc.org.nz/event/%e8%bd%ac%e5%8c%96%e7%94%9f%e5%91%bd-%e5%9f%b9%e7%81%b5%e9%9f%b3%e4%b9%90%e4%bc%9a/
LOCATION:Remuera Chinese Baptist Church\, 641 Remuera Road\, Auckland\, 1050\, New Zealand
END:VEVENT
END:VCALENDAR